BEGIN:VCALENDAR
PRODID:-//kirchenweb.ch gmbh//veranstaltungsausgabe v2.0//DE
VERSION:2.0
METHOD:PUBLISH
BEGIN:VEVENT
DTSTART:20270127T180000Z
DTEND:20270127T200000Z
LOCATION:Zwinglihaus\, \,
TRANSP:OPAQUE
SEQUENCE:0
UID:226161-veranstaltung@erk-bs.ch
DTSTAMP:20260325T102007Z
DESCRIPTION:Kontakt: Andreas Möri\n\nWeitere Infos:
  https://www.erk-bs.ch/veranstaltung/226161
SUMMARY:Stummfilm mit live Orgelbegleitung (prov.)
PRIORITY:5
X-MICROSOFT-CDO-IMPORTANCE:1
CLASS:PUBLIC
END:VEVENT
END:VCALENDAR
