BEGIN:VCALENDAR
PRODID:-//kirchenweb.ch gmbh//veranstaltungsausgabe v2.0//DE
VERSION:2.0
METHOD:PUBLISH
BEGIN:VEVENT
DTSTART:20271027T170000Z
DTEND:20271027T190000Z
LOCATION:Zwinglihaus\, \,
TRANSP:OPAQUE
SEQUENCE:0
UID:226159-veranstaltung@erk-bs.ch
DTSTAMP:20260325T101931Z
DESCRIPTION:Kontakt: Andreas Möri\n\nWeitere Infos:
  https://www.erk-bs.ch/veranstaltung/226159
SUMMARY:Stummfilm mit live Orgelbegleitung
PRIORITY:5
X-MICROSOFT-CDO-IMPORTANCE:1
CLASS:PUBLIC
END:VEVENT
END:VCALENDAR
