BEGIN:VCALENDAR
PRODID:-//kirchenweb.ch gmbh//veranstaltungsausgabe v2.0//DE
VERSION:2.0
METHOD:PUBLISH
BEGIN:VEVENT
DTSTART:20261017T080000Z
DTEND:20261017T120000Z
LOCATION:Zwinglihaus\, \,
TRANSP:OPAQUE
SEQUENCE:0
UID:225578-veranstaltung@erk-bs.ch
DTSTAMP:20260321T171200Z
DESCRIPTION:Wir – eine Gruppe frischgebackener Bibliologerinnen und
  Bibliologer – organisieren uns Möglichkeiten\, miteinander zu üben.
  Dazu suchen wir Menschen\, die gerne einen Bibliolog durchführen\, und
  solche\, die gerne mitmachen. Zusätzliche Elemente sind: Austausch und
  Feedback zum Erlebten. \nVoraussetzung ist ein absolvierter Grundkurs.
  Damit es Spass macht\, findet der Tag nur statt\, wenn sich mindestens 6
  Personen anmelden. \nMitbringen: Eigener Lunch für die Pause
 \nUnkostenbeitrag (Tee\, Kaffee\, Material\, Räume): CHF 20.-\, Euro 20.-
 \nAnmeldung bei Regula Tanner\, tanner@forumbasel.ch\nBitte bei der
  Anmeldung angeben\, wer selbst einen Bibliolog leiten möchte.\n\n
 \nKontakt: Regula Tanner\n\nWeitere Infos:
  https://www.erk-bs.ch/veranstaltung/225578
SUMMARY:Bibliolog Übungstag
PRIORITY:5
X-MICROSOFT-CDO-IMPORTANCE:1
CLASS:PUBLIC
END:VEVENT
END:VCALENDAR
