BEGIN:VCALENDAR
PRODID:-//kirchenweb.ch gmbh//veranstaltungsausgabe v2.0//DE
VERSION:2.0
METHOD:PUBLISH
BEGIN:VEVENT
DTSTART:20260527T130000Z
DTEND:20260527T153000Z
LOCATION:Delémont\, \,
TRANSP:OPAQUE
SEQUENCE:0
UID:220374-veranstaltung@erk-bs.ch
DTSTAMP:20251209T130419Z
DESCRIPTION:Die Teilnehmenden besuchen die kurz vor dem 1. Weltkrieg
  erbaute Synagoge des jurassischen Hauptortes Delémont. Die Synagoge wird
  seit längerem nicht mehr benutzt und ist normalerweise auch nicht
  zugänglich. Nutzen Sie daher die Gelegenheit! Im Anschluss an die
  Führung kurze Tour die Stadt.\n\n\nMit: Peter Bollag\, jüdischer
  Projektleiter CJP\n\nAnmeldung: Nähere Informationen sind ab Januar
  erhältlich:http:// www.cjp.ch; Interessierte melden sich bei
  info@cjp.ch. \n\nIn Kooperation mit: Christlich-Jüdische Projekte (CJP)
 \n\n\nKontakt: annette.berner@erk-bs.ch\n\nWeitere Infos:
  https://www.erk-bs.ch/veranstaltung/220374
SUMMARY:Exkursion: Die Synagoge in Delémont
PRIORITY:5
X-MICROSOFT-CDO-IMPORTANCE:1
CLASS:PUBLIC
END:VEVENT
END:VCALENDAR
