BEGIN:VCALENDAR
PRODID:-//kirchenweb.ch gmbh//veranstaltungsausgabe v2.0//DE
VERSION:2.0
METHOD:PUBLISH
BEGIN:VEVENT
DTSTART:20261214T160000Z
DTEND:20261214T173000Z
LOCATION:Zwinglihaus\, Gundeldingerstrasse 370\, 4053 Basel
TRANSP:OPAQUE
SEQUENCE:0
UID:217490-veranstaltung@erk-bs.ch
DTSTAMP:20251107T161346Z
DESCRIPTION:Kontakt: Paula Lewin (paula@lewin.ch)\nReiner Jansen
  (reinerjansen@bluewin.ch)\nKäthi Diethelm\n\nWeitere Infos:
  https://www.erk-bs.ch/veranstaltung/217490
SUMMARY:Leonhards-Club: (Gruppe Literatur)
PRIORITY:5
X-MICROSOFT-CDO-IMPORTANCE:1
CLASS:PUBLIC
END:VEVENT
END:VCALENDAR
